BEGIN:VCALENDAR
VERSION:2.0
PRODID:-//Hershey Gardens - ECPv6.15.15//NONSGML v1.0//EN
CALSCALE:GREGORIAN
METHOD:PUBLISH
X-WR-CALNAME:Hershey Gardens
X-ORIGINAL-URL:https://www.hersheygardens.org
X-WR-CALDESC:Events for Hershey Gardens
REFRESH-INTERVAL;VALUE=DURATION:PT1H
X-Robots-Tag:noindex
X-PUBLISHED-TTL:PT1H
BEGIN:VTIMEZONE
TZID:America/New_York
BEGIN:DAYLIGHT
TZOFFSETFROM:-0500
TZOFFSETTO:-0400
TZNAME:EDT
DTSTART:20220313T070000
END:DAYLIGHT
BEGIN:STANDARD
TZOFFSETFROM:-0400
TZOFFSETTO:-0500
TZNAME:EST
DTSTART:20221106T060000
END:STANDARD
BEGIN:DAYLIGHT
TZOFFSETFROM:-0500
TZOFFSETTO:-0400
TZNAME:EDT
DTSTART:20230312T070000
END:DAYLIGHT
BEGIN:STANDARD
TZOFFSETFROM:-0400
TZOFFSETTO:-0500
TZNAME:EST
DTSTART:20231105T060000
END:STANDARD
BEGIN:DAYLIGHT
TZOFFSETFROM:-0500
TZOFFSETTO:-0400
TZNAME:EDT
DTSTART:20240310T070000
END:DAYLIGHT
BEGIN:STANDARD
TZOFFSETFROM:-0400
TZOFFSETTO:-0500
TZNAME:EST
DTSTART:20241103T060000
END:STANDARD
END:VTIMEZONE
BEGIN:VEVENT
DTSTART;TZID=America/New_York:20230701T100000
DTEND;TZID=America/New_York:20230701T110000
DTSTAMP:20260421T083719
CREATED:20221221T194228Z
LAST-MODIFIED:20230616T160210Z
UID:10000488-1688205600-1688209200@www.hersheygardens.org
SUMMARY:Guided Walk
DESCRIPTION:Join Dr. Ray Barbehenn\, a biologist with an expertise in plant ecology\, for an hour-long adventure through the gardens as you learn about plants and trees. Bring your curiosity! \nIncluded with admission\, free for members.
URL:https://www.hersheygardens.org/event/guided-walk-2/2023-07-01/
END:VEVENT
BEGIN:VEVENT
DTSTART;TZID=America/New_York:20230701T100000
DTEND;TZID=America/New_York:20230701T120000
DTSTAMP:20260421T083719
CREATED:20230614T172423Z
LAST-MODIFIED:20230808T153732Z
UID:10000290-1688205600-1688212800@www.hersheygardens.org
SUMMARY:Live Music by String Duet Segno
DESCRIPTION:Guests can enjoy live music by Segno\, a string duet consisting of Harpist Sylvia Sweigert and Hammered Dulcimer player LillieMae Sweigert.\n\nSylvia and LillieMae are members of the Harrisburg Harp Orchestra\, playing in the greater Harrisburg and Philadelphia Area. They play a wide range of music such as Broadway tunes\, popular songs\, Celtic favorites\, American folk\, classical pieces\, and familiar hymns. The duet often composes their own arrangements\, to suit the occasion. Sylvia plays a Lyon & Healy Prelude 38\, and LillieMae plays a custom James Jones 4/19/21/9 Hammered Dulcimer. \nPerformances will take place in the Milton & Catherine Hershey Conservatory. Included in admission; free for members.
URL:https://www.hersheygardens.org/event/live-music-by-string-duet-segno-4/2023-07-01/
END:VEVENT
END:VCALENDAR