BEGIN:VCALENDAR
VERSION:2.0
PRODID:-//Hershey Gardens - ECPv6.15.15//NONSGML v1.0//EN
CALSCALE:GREGORIAN
METHOD:PUBLISH
X-ORIGINAL-URL:https://www.hersheygardens.org
X-WR-CALDESC:Events for Hershey Gardens
REFRESH-INTERVAL;VALUE=DURATION:PT1H
X-Robots-Tag:noindex
X-PUBLISHED-TTL:PT1H
BEGIN:VTIMEZONE
TZID:America/New_York
BEGIN:DAYLIGHT
TZOFFSETFROM:-0500
TZOFFSETTO:-0400
TZNAME:EDT
DTSTART:20200308T070000
END:DAYLIGHT
BEGIN:STANDARD
TZOFFSETFROM:-0400
TZOFFSETTO:-0500
TZNAME:EST
DTSTART:20201101T060000
END:STANDARD
BEGIN:DAYLIGHT
TZOFFSETFROM:-0500
TZOFFSETTO:-0400
TZNAME:EDT
DTSTART:20210314T070000
END:DAYLIGHT
BEGIN:STANDARD
TZOFFSETFROM:-0400
TZOFFSETTO:-0500
TZNAME:EST
DTSTART:20211107T060000
END:STANDARD
BEGIN:DAYLIGHT
TZOFFSETFROM:-0500
TZOFFSETTO:-0400
TZNAME:EDT
DTSTART:20220313T070000
END:DAYLIGHT
BEGIN:STANDARD
TZOFFSETFROM:-0400
TZOFFSETTO:-0500
TZNAME:EST
DTSTART:20221106T060000
END:STANDARD
END:VTIMEZONE
BEGIN:VEVENT
DTSTART;TZID=America/New_York:20211026T090000
DTEND;TZID=America/New_York:20211026T170000
DTSTAMP:20260422T134311
CREATED:20210927T170942Z
LAST-MODIFIED:20211004T145814Z
UID:10000029-1635238800-1635267600@www.hersheygardens.org
SUMMARY:Bonsai Exhibit by the Susquehanna Bonsai Club
DESCRIPTION:Experience the living art of bonsai during this popular annual exhibit provided by the Susquehanna Bonsai Club. The exhibit is on display in the Hoop House\, located in The Children’s Garden. \nNew! Plant Sale by the Susquehanna Bonsai Club\nSaturday\, October 9 and Sunday\, October 10 from 9 a.m. – 5 p.m.\,\nunder the tent at the Milton & Catherine Hershey Conservatory. \nIncluded with admission; free for members.
URL:https://www.hersheygardens.org/event/bonsai-exhibit-by-the-susquehanna-bonsai-club/2021-10-26/
LOCATION:Hershey Gardens\, 170 Hotel Road\, Hershey\, 17033\, United States
END:VEVENT
BEGIN:VEVENT
DTSTART;TZID=America/New_York:20211026T190000
DTEND;TZID=America/New_York:20211026T200000
DTSTAMP:20260422T134311
CREATED:20210805T182226Z
LAST-MODIFIED:20211004T150149Z
UID:10000243-1635274800-1635278400@www.hersheygardens.org
SUMMARY:Harnessing the Sun for a Negative-Carbon Bio-Economy
DESCRIPTION:Plants Rule! Harnessing the Sun for a Negative-Carbon Bio-Econom \nWhat is needed to reverse the already excessive concentration of carbon dioxide in our atmosphere? Join us for this program featuring Dr. Tom Richard\, Director of Penn State’s Institutes of Energy and the Environment. \nDr. Richard will discuss the importance of biological processes in reaching a carbon-negative future and will help us understand the opportunities of biomass conversion in agriculture to contribute to our future sustainability. Join us to learn about the agroecological pieces and how they all fit together. \nThis free program will be presented at the Milton & Catherine Hershey Conservatory at Hershey Gardens. \nTo register\, please contact the Manada Conservancy at 717-566-4122 or office@manada.org.
URL:https://www.hersheygardens.org/event/harnessing-the-sun-for-a-negative-carbon-bio-economy/
LOCATION:Hershey Gardens\, 170 Hotel Road\, Hershey\, 17033\, United States
END:VEVENT
END:VCALENDAR