BEGIN:VCALENDAR
VERSION:2.0
PRODID:-//Hershey Gardens - ECPv6.15.15//NONSGML v1.0//EN
CALSCALE:GREGORIAN
METHOD:PUBLISH
X-ORIGINAL-URL:https://www.hersheygardens.org
X-WR-CALDESC:Events for Hershey Gardens
REFRESH-INTERVAL;VALUE=DURATION:PT1H
X-Robots-Tag:noindex
X-PUBLISHED-TTL:PT1H
BEGIN:VTIMEZONE
TZID:America/New_York
BEGIN:DAYLIGHT
TZOFFSETFROM:-0500
TZOFFSETTO:-0400
TZNAME:EDT
DTSTART:20200308T070000
END:DAYLIGHT
BEGIN:STANDARD
TZOFFSETFROM:-0400
TZOFFSETTO:-0500
TZNAME:EST
DTSTART:20201101T060000
END:STANDARD
BEGIN:DAYLIGHT
TZOFFSETFROM:-0500
TZOFFSETTO:-0400
TZNAME:EDT
DTSTART:20210314T070000
END:DAYLIGHT
BEGIN:STANDARD
TZOFFSETFROM:-0400
TZOFFSETTO:-0500
TZNAME:EST
DTSTART:20211107T060000
END:STANDARD
BEGIN:DAYLIGHT
TZOFFSETFROM:-0500
TZOFFSETTO:-0400
TZNAME:EDT
DTSTART:20220313T070000
END:DAYLIGHT
BEGIN:STANDARD
TZOFFSETFROM:-0400
TZOFFSETTO:-0500
TZNAME:EST
DTSTART:20221106T060000
END:STANDARD
END:VTIMEZONE
BEGIN:VEVENT
DTSTART;TZID=America/New_York:20210417T100000
DTEND;TZID=America/New_York:20210417T110000
DTSTAMP:20260420T101754
CREATED:20210805T182220Z
LAST-MODIFIED:20210805T182220Z
UID:10000209-1618653600-1618657200@www.hersheygardens.org
SUMMARY:Virtual Program: The Nesting Needs & Behaviors of Bluebirds
DESCRIPTION:Join us for a Virtual Program:\nIntroduction to the Nesting Needs and Behavior of Bluebirds with Dean Rust\, President of the Bluebird Society of PA\n$15 includes adult membership to The Bluebird Society of Pennsylvania\nFree for Members of Hershey Gardens\, Free for Current Members of the Bluebird Society of Pennsylvania   \nJoin Dean Rust and Hershey Gardens on Google Meets for a virtual informative presentation about the care and lifestyle of the Pennsylvania Bluebird. Following his presentation\, Dean will walk Hershey Gardens' bluebird box trail. He will look for "assets"\, or a box with eggs\, and teach the proper etiquette to observe bluebirds from a safe distance.  \nClick here to pre-register.\n \nRegistration ends on April 3 . Following registration\, an email with a link with additional details on how to use Google Meets will be sent to you.
URL:https://www.hersheygardens.org/event/virtual-program-the-nesting-needs-behaviors-of-bluebirds/
END:VEVENT
END:VCALENDAR