BEGIN:VCALENDAR
VERSION:2.0
PRODID:-//Hershey Gardens - ECPv6.15.15//NONSGML v1.0//EN
CALSCALE:GREGORIAN
METHOD:PUBLISH
X-WR-CALNAME:Hershey Gardens
X-ORIGINAL-URL:https://www.hersheygardens.org
X-WR-CALDESC:Events for Hershey Gardens
REFRESH-INTERVAL;VALUE=DURATION:PT1H
X-Robots-Tag:noindex
X-PUBLISHED-TTL:PT1H
BEGIN:VTIMEZONE
TZID:America/New_York
BEGIN:DAYLIGHT
TZOFFSETFROM:-0500
TZOFFSETTO:-0400
TZNAME:EDT
DTSTART:20200308T070000
END:DAYLIGHT
BEGIN:STANDARD
TZOFFSETFROM:-0400
TZOFFSETTO:-0500
TZNAME:EST
DTSTART:20201101T060000
END:STANDARD
BEGIN:DAYLIGHT
TZOFFSETFROM:-0500
TZOFFSETTO:-0400
TZNAME:EDT
DTSTART:20210314T070000
END:DAYLIGHT
BEGIN:STANDARD
TZOFFSETFROM:-0400
TZOFFSETTO:-0500
TZNAME:EST
DTSTART:20211107T060000
END:STANDARD
BEGIN:DAYLIGHT
TZOFFSETFROM:-0500
TZOFFSETTO:-0400
TZNAME:EDT
DTSTART:20220313T070000
END:DAYLIGHT
BEGIN:STANDARD
TZOFFSETFROM:-0400
TZOFFSETTO:-0500
TZNAME:EST
DTSTART:20221106T060000
END:STANDARD
END:VTIMEZONE
BEGIN:VEVENT
DTSTART;TZID=America/New_York:20210404T063000
DTEND;TZID=America/New_York:20210404T073000
DTSTAMP:20260420T101740
CREATED:20210805T182220Z
LAST-MODIFIED:20210805T182220Z
UID:10000210-1617517800-1617521400@www.hersheygardens.org
SUMMARY:Easter Sunrise Service
DESCRIPTION:Easter Sunrise Service \nSunday\, April 4 at 6:30 a.m. via Facebook (Hershey Gardens) \nHershey Gardens is proud to host the annual Easter Sunrise Service\, a tradition that began in 1947. The community is invited to view the pre-recorded non-denominational service (via Facebook only) provided by the Hershey Ministerium. Simply log on to Hershey Gardens' Facebook page to view the service. 
URL:https://www.hersheygardens.org/event/easter-sunrise-service-2/
END:VEVENT
END:VCALENDAR